BEGIN:VCALENDAR
VERSION:2.0
PRODID:-//Frankston Golf Club - ECPv6.15.20//NONSGML v1.0//EN
CALSCALE:GREGORIAN
METHOD:PUBLISH
X-WR-CALNAME:Frankston Golf Club
X-ORIGINAL-URL:https://frankstongolfclub.com.au
X-WR-CALDESC:Events for Frankston Golf Club
REFRESH-INTERVAL;VALUE=DURATION:PT1H
X-Robots-Tag:noindex
X-PUBLISHED-TTL:PT1H
BEGIN:VTIMEZONE
TZID:Australia/Melbourne
BEGIN:STANDARD
TZOFFSETFROM:+1100
TZOFFSETTO:+1000
TZNAME:AEST
DTSTART:20250405T160000
END:STANDARD
BEGIN:DAYLIGHT
TZOFFSETFROM:+1000
TZOFFSETTO:+1100
TZNAME:AEDT
DTSTART:20251004T160000
END:DAYLIGHT
BEGIN:STANDARD
TZOFFSETFROM:+1100
TZOFFSETTO:+1000
TZNAME:AEST
DTSTART:20260404T160000
END:STANDARD
BEGIN:DAYLIGHT
TZOFFSETFROM:+1000
TZOFFSETTO:+1100
TZNAME:AEDT
DTSTART:20261003T160000
END:DAYLIGHT
BEGIN:STANDARD
TZOFFSETFROM:+1100
TZOFFSETTO:+1000
TZNAME:AEST
DTSTART:20270403T160000
END:STANDARD
BEGIN:DAYLIGHT
TZOFFSETFROM:+1000
TZOFFSETTO:+1100
TZNAME:AEDT
DTSTART:20271002T160000
END:DAYLIGHT
END:VTIMEZONE
BEGIN:VEVENT
DTSTART;TZID=Australia/Melbourne:20260430T080000
DTEND;TZID=Australia/Melbourne:20260430T110000
DTSTAMP:20260425T100736
CREATED:20240709T061004Z
LAST-MODIFIED:20241006T042417Z
UID:10001235-1777536000-1777546800@frankstongolfclub.com.au
SUMMARY:Thursday Men's Group
DESCRIPTION:All male members are welcome to join in.
URL:https://frankstongolfclub.com.au/event/thursday-mens-group/2026-04-30/
CATEGORIES:Organised Golf
END:VEVENT
BEGIN:VEVENT
DTSTART;TZID=Australia/Melbourne:20260507T080000
DTEND;TZID=Australia/Melbourne:20260507T110000
DTSTAMP:20260425T100736
CREATED:20240709T061004Z
LAST-MODIFIED:20241006T042417Z
UID:10001236-1778140800-1778151600@frankstongolfclub.com.au
SUMMARY:Thursday Men's Group
DESCRIPTION:All male members are welcome to join in.
URL:https://frankstongolfclub.com.au/event/thursday-mens-group/2026-05-07/
CATEGORIES:Organised Golf
END:VEVENT
BEGIN:VEVENT
DTSTART;TZID=Australia/Melbourne:20260514T080000
DTEND;TZID=Australia/Melbourne:20260514T110000
DTSTAMP:20260425T100736
CREATED:20240709T061004Z
LAST-MODIFIED:20241006T042417Z
UID:10001237-1778745600-1778756400@frankstongolfclub.com.au
SUMMARY:Thursday Men's Group
DESCRIPTION:All male members are welcome to join in.
URL:https://frankstongolfclub.com.au/event/thursday-mens-group/2026-05-14/
CATEGORIES:Organised Golf
END:VEVENT
BEGIN:VEVENT
DTSTART;TZID=Australia/Melbourne:20260521T080000
DTEND;TZID=Australia/Melbourne:20260521T110000
DTSTAMP:20260425T100736
CREATED:20240709T061004Z
LAST-MODIFIED:20241006T042417Z
UID:10001238-1779350400-1779361200@frankstongolfclub.com.au
SUMMARY:Thursday Men's Group
DESCRIPTION:All male members are welcome to join in.
URL:https://frankstongolfclub.com.au/event/thursday-mens-group/2026-05-21/
CATEGORIES:Organised Golf
END:VEVENT
BEGIN:VEVENT
DTSTART;TZID=Australia/Melbourne:20260528T080000
DTEND;TZID=Australia/Melbourne:20260528T110000
DTSTAMP:20260425T100736
CREATED:20240709T061004Z
LAST-MODIFIED:20241006T042417Z
UID:10001239-1779955200-1779966000@frankstongolfclub.com.au
SUMMARY:Thursday Men's Group
DESCRIPTION:All male members are welcome to join in.
URL:https://frankstongolfclub.com.au/event/thursday-mens-group/2026-05-28/
CATEGORIES:Organised Golf
END:VEVENT
BEGIN:VEVENT
DTSTART;TZID=Australia/Melbourne:20260604T080000
DTEND;TZID=Australia/Melbourne:20260604T110000
DTSTAMP:20260425T100736
CREATED:20240709T061004Z
LAST-MODIFIED:20241006T042417Z
UID:10001240-1780560000-1780570800@frankstongolfclub.com.au
SUMMARY:Thursday Men's Group
DESCRIPTION:All male members are welcome to join in.
URL:https://frankstongolfclub.com.au/event/thursday-mens-group/2026-06-04/
CATEGORIES:Organised Golf
END:VEVENT
BEGIN:VEVENT
DTSTART;TZID=Australia/Melbourne:20260611T080000
DTEND;TZID=Australia/Melbourne:20260611T110000
DTSTAMP:20260425T100736
CREATED:20240709T061004Z
LAST-MODIFIED:20241006T042417Z
UID:10001241-1781164800-1781175600@frankstongolfclub.com.au
SUMMARY:Thursday Men's Group
DESCRIPTION:All male members are welcome to join in.
URL:https://frankstongolfclub.com.au/event/thursday-mens-group/2026-06-11/
CATEGORIES:Organised Golf
END:VEVENT
BEGIN:VEVENT
DTSTART;TZID=Australia/Melbourne:20260618T080000
DTEND;TZID=Australia/Melbourne:20260618T110000
DTSTAMP:20260425T100736
CREATED:20240709T061004Z
LAST-MODIFIED:20241006T042417Z
UID:10001242-1781769600-1781780400@frankstongolfclub.com.au
SUMMARY:Thursday Men's Group
DESCRIPTION:All male members are welcome to join in.
URL:https://frankstongolfclub.com.au/event/thursday-mens-group/2026-06-18/
CATEGORIES:Organised Golf
END:VEVENT
BEGIN:VEVENT
DTSTART;TZID=Australia/Melbourne:20260625T080000
DTEND;TZID=Australia/Melbourne:20260625T110000
DTSTAMP:20260425T100736
CREATED:20240709T061004Z
LAST-MODIFIED:20241006T042417Z
UID:10001243-1782374400-1782385200@frankstongolfclub.com.au
SUMMARY:Thursday Men's Group
DESCRIPTION:All male members are welcome to join in.
URL:https://frankstongolfclub.com.au/event/thursday-mens-group/2026-06-25/
CATEGORIES:Organised Golf
END:VEVENT
BEGIN:VEVENT
DTSTART;TZID=Australia/Melbourne:20260702T080000
DTEND;TZID=Australia/Melbourne:20260702T110000
DTSTAMP:20260425T100736
CREATED:20240709T061004Z
LAST-MODIFIED:20241006T042417Z
UID:10001244-1782979200-1782990000@frankstongolfclub.com.au
SUMMARY:Thursday Men's Group
DESCRIPTION:All male members are welcome to join in.
URL:https://frankstongolfclub.com.au/event/thursday-mens-group/2026-07-02/
CATEGORIES:Organised Golf
END:VEVENT
BEGIN:VEVENT
DTSTART;TZID=Australia/Melbourne:20260709T080000
DTEND;TZID=Australia/Melbourne:20260709T110000
DTSTAMP:20260425T100736
CREATED:20240709T061004Z
LAST-MODIFIED:20241006T042417Z
UID:10001245-1783584000-1783594800@frankstongolfclub.com.au
SUMMARY:Thursday Men's Group
DESCRIPTION:All male members are welcome to join in.
URL:https://frankstongolfclub.com.au/event/thursday-mens-group/2026-07-09/
CATEGORIES:Organised Golf
END:VEVENT
BEGIN:VEVENT
DTSTART;TZID=Australia/Melbourne:20260716T080000
DTEND;TZID=Australia/Melbourne:20260716T110000
DTSTAMP:20260425T100736
CREATED:20240709T061004Z
LAST-MODIFIED:20241006T042417Z
UID:10001246-1784188800-1784199600@frankstongolfclub.com.au
SUMMARY:Thursday Men's Group
DESCRIPTION:All male members are welcome to join in.
URL:https://frankstongolfclub.com.au/event/thursday-mens-group/2026-07-16/
CATEGORIES:Organised Golf
END:VEVENT
BEGIN:VEVENT
DTSTART;TZID=Australia/Melbourne:20260723T080000
DTEND;TZID=Australia/Melbourne:20260723T110000
DTSTAMP:20260425T100736
CREATED:20240709T061004Z
LAST-MODIFIED:20241006T042417Z
UID:10001247-1784793600-1784804400@frankstongolfclub.com.au
SUMMARY:Thursday Men's Group
DESCRIPTION:All male members are welcome to join in.
URL:https://frankstongolfclub.com.au/event/thursday-mens-group/2026-07-23/
CATEGORIES:Organised Golf
END:VEVENT
BEGIN:VEVENT
DTSTART;TZID=Australia/Melbourne:20260730T080000
DTEND;TZID=Australia/Melbourne:20260730T110000
DTSTAMP:20260425T100736
CREATED:20240709T061004Z
LAST-MODIFIED:20241006T042417Z
UID:10001248-1785398400-1785409200@frankstongolfclub.com.au
SUMMARY:Thursday Men's Group
DESCRIPTION:All male members are welcome to join in.
URL:https://frankstongolfclub.com.au/event/thursday-mens-group/2026-07-30/
CATEGORIES:Organised Golf
END:VEVENT
BEGIN:VEVENT
DTSTART;TZID=Australia/Melbourne:20260806T080000
DTEND;TZID=Australia/Melbourne:20260806T110000
DTSTAMP:20260425T100736
CREATED:20240709T061004Z
LAST-MODIFIED:20241006T042417Z
UID:10001249-1786003200-1786014000@frankstongolfclub.com.au
SUMMARY:Thursday Men's Group
DESCRIPTION:All male members are welcome to join in.
URL:https://frankstongolfclub.com.au/event/thursday-mens-group/2026-08-06/
CATEGORIES:Organised Golf
END:VEVENT
BEGIN:VEVENT
DTSTART;TZID=Australia/Melbourne:20260813T080000
DTEND;TZID=Australia/Melbourne:20260813T110000
DTSTAMP:20260425T100736
CREATED:20240709T061004Z
LAST-MODIFIED:20241006T042417Z
UID:10001250-1786608000-1786618800@frankstongolfclub.com.au
SUMMARY:Thursday Men's Group
DESCRIPTION:All male members are welcome to join in.
URL:https://frankstongolfclub.com.au/event/thursday-mens-group/2026-08-13/
CATEGORIES:Organised Golf
END:VEVENT
BEGIN:VEVENT
DTSTART;TZID=Australia/Melbourne:20260820T080000
DTEND;TZID=Australia/Melbourne:20260820T110000
DTSTAMP:20260425T100736
CREATED:20240709T061004Z
LAST-MODIFIED:20241006T042417Z
UID:10001251-1787212800-1787223600@frankstongolfclub.com.au
SUMMARY:Thursday Men's Group
DESCRIPTION:All male members are welcome to join in.
URL:https://frankstongolfclub.com.au/event/thursday-mens-group/2026-08-20/
CATEGORIES:Organised Golf
END:VEVENT
BEGIN:VEVENT
DTSTART;TZID=Australia/Melbourne:20260827T080000
DTEND;TZID=Australia/Melbourne:20260827T110000
DTSTAMP:20260425T100736
CREATED:20240709T061004Z
LAST-MODIFIED:20241006T042417Z
UID:10001252-1787817600-1787828400@frankstongolfclub.com.au
SUMMARY:Thursday Men's Group
DESCRIPTION:All male members are welcome to join in.
URL:https://frankstongolfclub.com.au/event/thursday-mens-group/2026-08-27/
CATEGORIES:Organised Golf
END:VEVENT
BEGIN:VEVENT
DTSTART;TZID=Australia/Melbourne:20260903T080000
DTEND;TZID=Australia/Melbourne:20260903T110000
DTSTAMP:20260425T100736
CREATED:20240709T061004Z
LAST-MODIFIED:20241006T042417Z
UID:10001253-1788422400-1788433200@frankstongolfclub.com.au
SUMMARY:Thursday Men's Group
DESCRIPTION:All male members are welcome to join in.
URL:https://frankstongolfclub.com.au/event/thursday-mens-group/2026-09-03/
CATEGORIES:Organised Golf
END:VEVENT
BEGIN:VEVENT
DTSTART;TZID=Australia/Melbourne:20260910T080000
DTEND;TZID=Australia/Melbourne:20260910T110000
DTSTAMP:20260425T100736
CREATED:20240709T061004Z
LAST-MODIFIED:20241006T042417Z
UID:10001254-1789027200-1789038000@frankstongolfclub.com.au
SUMMARY:Thursday Men's Group
DESCRIPTION:All male members are welcome to join in.
URL:https://frankstongolfclub.com.au/event/thursday-mens-group/2026-09-10/
CATEGORIES:Organised Golf
END:VEVENT
BEGIN:VEVENT
DTSTART;TZID=Australia/Melbourne:20260917T080000
DTEND;TZID=Australia/Melbourne:20260917T110000
DTSTAMP:20260425T100736
CREATED:20240709T061004Z
LAST-MODIFIED:20241006T042417Z
UID:10001255-1789632000-1789642800@frankstongolfclub.com.au
SUMMARY:Thursday Men's Group
DESCRIPTION:All male members are welcome to join in.
URL:https://frankstongolfclub.com.au/event/thursday-mens-group/2026-09-17/
CATEGORIES:Organised Golf
END:VEVENT
BEGIN:VEVENT
DTSTART;TZID=Australia/Melbourne:20260924T080000
DTEND;TZID=Australia/Melbourne:20260924T110000
DTSTAMP:20260425T100736
CREATED:20240709T061004Z
LAST-MODIFIED:20241006T042417Z
UID:10001256-1790236800-1790247600@frankstongolfclub.com.au
SUMMARY:Thursday Men's Group
DESCRIPTION:All male members are welcome to join in.
URL:https://frankstongolfclub.com.au/event/thursday-mens-group/2026-09-24/
CATEGORIES:Organised Golf
END:VEVENT
BEGIN:VEVENT
DTSTART;TZID=Australia/Melbourne:20261001T080000
DTEND;TZID=Australia/Melbourne:20261001T110000
DTSTAMP:20260425T100736
CREATED:20240709T061004Z
LAST-MODIFIED:20241006T042417Z
UID:10001257-1790841600-1790852400@frankstongolfclub.com.au
SUMMARY:Thursday Men's Group
DESCRIPTION:All male members are welcome to join in.
URL:https://frankstongolfclub.com.au/event/thursday-mens-group/2026-10-01/
CATEGORIES:Organised Golf
END:VEVENT
BEGIN:VEVENT
DTSTART;TZID=Australia/Melbourne:20261008T080000
DTEND;TZID=Australia/Melbourne:20261008T110000
DTSTAMP:20260425T100736
CREATED:20240709T061004Z
LAST-MODIFIED:20241006T042417Z
UID:10001258-1791446400-1791457200@frankstongolfclub.com.au
SUMMARY:Thursday Men's Group
DESCRIPTION:All male members are welcome to join in.
URL:https://frankstongolfclub.com.au/event/thursday-mens-group/2026-10-08/
CATEGORIES:Organised Golf
END:VEVENT
BEGIN:VEVENT
DTSTART;TZID=Australia/Melbourne:20261015T080000
DTEND;TZID=Australia/Melbourne:20261015T110000
DTSTAMP:20260425T100736
CREATED:20240709T061004Z
LAST-MODIFIED:20241006T042417Z
UID:10001259-1792051200-1792062000@frankstongolfclub.com.au
SUMMARY:Thursday Men's Group
DESCRIPTION:All male members are welcome to join in.
URL:https://frankstongolfclub.com.au/event/thursday-mens-group/2026-10-15/
CATEGORIES:Organised Golf
END:VEVENT
BEGIN:VEVENT
DTSTART;TZID=Australia/Melbourne:20261022T080000
DTEND;TZID=Australia/Melbourne:20261022T110000
DTSTAMP:20260425T100736
CREATED:20240709T061004Z
LAST-MODIFIED:20241006T042417Z
UID:10001260-1792656000-1792666800@frankstongolfclub.com.au
SUMMARY:Thursday Men's Group
DESCRIPTION:All male members are welcome to join in.
URL:https://frankstongolfclub.com.au/event/thursday-mens-group/2026-10-22/
CATEGORIES:Organised Golf
END:VEVENT
BEGIN:VEVENT
DTSTART;TZID=Australia/Melbourne:20261029T080000
DTEND;TZID=Australia/Melbourne:20261029T110000
DTSTAMP:20260425T100736
CREATED:20240709T061004Z
LAST-MODIFIED:20241006T042417Z
UID:10001261-1793260800-1793271600@frankstongolfclub.com.au
SUMMARY:Thursday Men's Group
DESCRIPTION:All male members are welcome to join in.
URL:https://frankstongolfclub.com.au/event/thursday-mens-group/2026-10-29/
CATEGORIES:Organised Golf
END:VEVENT
BEGIN:VEVENT
DTSTART;TZID=Australia/Melbourne:20261105T080000
DTEND;TZID=Australia/Melbourne:20261105T110000
DTSTAMP:20260425T100736
CREATED:20240709T061004Z
LAST-MODIFIED:20241006T042417Z
UID:10001262-1793865600-1793876400@frankstongolfclub.com.au
SUMMARY:Thursday Men's Group
DESCRIPTION:All male members are welcome to join in.
URL:https://frankstongolfclub.com.au/event/thursday-mens-group/2026-11-05/
CATEGORIES:Organised Golf
END:VEVENT
BEGIN:VEVENT
DTSTART;TZID=Australia/Melbourne:20261112T080000
DTEND;TZID=Australia/Melbourne:20261112T110000
DTSTAMP:20260425T100736
CREATED:20240709T061004Z
LAST-MODIFIED:20241006T042417Z
UID:10001263-1794470400-1794481200@frankstongolfclub.com.au
SUMMARY:Thursday Men's Group
DESCRIPTION:All male members are welcome to join in.
URL:https://frankstongolfclub.com.au/event/thursday-mens-group/2026-11-12/
CATEGORIES:Organised Golf
END:VEVENT
BEGIN:VEVENT
DTSTART;TZID=Australia/Melbourne:20261119T080000
DTEND;TZID=Australia/Melbourne:20261119T110000
DTSTAMP:20260425T100736
CREATED:20240709T061004Z
LAST-MODIFIED:20241006T042417Z
UID:10001264-1795075200-1795086000@frankstongolfclub.com.au
SUMMARY:Thursday Men's Group
DESCRIPTION:All male members are welcome to join in.
URL:https://frankstongolfclub.com.au/event/thursday-mens-group/2026-11-19/
CATEGORIES:Organised Golf
END:VEVENT
END:VCALENDAR